BEGIN:VCALENDAR
VERSION:2.0
CALSCALE:GREGORIAN
PRODID:adamgibbons/ics
METHOD:PUBLISH
X-PUBLISHED-TTL:PT1H
BEGIN:VEVENT
UID:330@events.karlsruhe-social.de
SUMMARY:Vom Garten in den Kleiderschrank 1/2 — Pflanzenfarben herstellen un
	d Stoffe färben
DTSTAMP:20260425T113709Z
DTSTART:20260428T143000Z
DTEND:20260428T170000Z
URL:https://events.karlsruhe-social.de/event/vom-garten-in-den-kleiderschra
	nk-12-pflanzenfarben-herstellen-und-stoffe-farben
GEO:49.0016;8.32784
LOCATION:Lernort frog - Alt-Daxlanden\, Daxlanden\, Karlsruhe\, Baden-Württ
	emberg\, 76189\, Deutschland
STATUS:CONFIRMED
CATEGORIES:#KeepKarlsruheBoring,Ecology,Fedika,Garten,Klima,Urbane Gärten K
	arlsruhe,Workshop
END:VEVENT
BEGIN:VEVENT
UID:331@events.karlsruhe-social.de
SUMMARY:Vom Garten in den Kleiderschrank 2/2 — mit Pflanzen-gefärbtem Garn 
	sticken
DTSTAMP:20260425T113709Z
DTSTART:20260512T143000Z
DTEND:20260512T170000Z
URL:https://events.karlsruhe-social.de/event/vom-garten-in-den-kleiderschra
	nk-22-mit-pflanzen-gefarbtem-garn-sticken
GEO:49.0016;8.32784
LOCATION:Lernort frog - Alt-Daxlanden\, Daxlanden\, Karlsruhe\, Baden-Württ
	emberg\, 76189\, Deutschland
STATUS:CONFIRMED
CATEGORIES:#KeepKarlsruheBoring,Ecology,Fedika,Garten,Klima,Urbane Gärten K
	arlsruhe,Workshop
END:VEVENT
END:VCALENDAR
